BEGIN:VCALENDAR
PRODID:-//Det Danske Spejderkorps//NONSGML Gruppeweb//EN
VERSION:2.0
CALSCALE:GREGORIAN
X-PUBLISHED-TTL:PT1H
X-WR-CALNAME:Mikrober - Lige
METHOD:PUBLISH
BEGIN:VEVENT
UID:gruppeweb.dk:2221:event:302
DTSTAMP:20260421T161733Z
LAST-MODIFIED:20250602T113233Z
SUMMARY:VANDREDAG i Kattehale
DESCRIPTION:======== Kære spejdere og familier i Orion Gruppe ============
 ===============\n\n.... Det er forår og vi skal ud i skoven\n\n*Søndag d
 . 15/6* afholder vi vores årlige vandredag for alle spejdere og  \nfamil
 ier tilknyttet Orion.\nDet er naturligvis i og omkring vores dejlige Katte
 hale hytte at det  \nforegår. \n\nDet fungerer på den måde at man mød
 er op ved hytten\, vandrer i skoven med  \nsin familie eller med sine spej
 dervenner. \n\nMan kan vandre lige så langt som man har lyst og kræfter
  til. Vi har  \nforberedt nogle ruter så man let kan holde styr på hvor
  langt man går\, og  \nså man med jævnlige mellemrum kommer forbi hytte
 n.\n\nOg hvis du lykkes med at gå 5\, 10\, 20 eller 30 km\, får du et m
 ærke med  \nhjem!\n\nLederne sørger for at der er noget koldt at drikke\
 , men I skal selv sørge  \nfor at have en *god madpakke med*.\nVandredage
 n starter *kl. 09* og slutter når de sidste kommer i mål  \nomkring *
 kl. 17*\, men i kan bare møde op i det tidsrum der passer jer  \nbedst.\n
 \nTilmeld jer gerne her på siden\, så vi kan vide hvor mange vi bliver!\
 n*\n*\n\n*Transport:* Der er mulighed for at ankomme i bil - det vil vær
 e en god  \nidé at parkere oppe på Kattehalevej.\nEllers er det let at t
 age toget til Allerød station. Der er 3 km til hytten  \nigennem skoven\,
  så er man ligesom igang :-)\n\nSpejderhilsener fra lederne\n\n\n
URL:https://www.oriongruppe.dk/begivenhed/vandredag-i-kattehale
DTSTART:20250615T070000Z
DTEND:20250615T150000Z
LOCATION:Orion Gruppe\, Nygårdsvej 50\, kld.\, 2100 København Ø
END:VEVENT
BEGIN:VEVENT
UID:gruppeweb.dk:2221:event:312
DTSTAMP:20260421T161733Z
LAST-MODIFIED:20260212T165015Z
SUMMARY:Fællesdag i Kattehale
DESCRIPTION:.... Søndag d. 21 september mødes vi\n\n.... til fælles arbe
 jdsdag i Kattehale\n\nSå er efteråret kommet og vi skal gøre vores hytt
 eklar til vinteren.\n\nDer skal både males og gøres rent og arbejdet med
  den lille hytte  \nfortsætter.\n\nSkriv hvor mange I kommer ud over spej
 deren.\n\nDer vil blive sørget for frokost og drikkevare.\n\nSpejderhilse
 n Kattehale teamet.\n\n\n
URL:https://www.oriongruppe.dk/begivenhed/faellesdag-i-kattehale-0
DTSTART:20250921T080000Z
DTEND:20250921T130000Z
LOCATION:Kattehale\, Kattehalevej 33b\, 3460 Birkerød
END:VEVENT
BEGIN:VEVENT
UID:gruppeweb.dk:2221:event:311
DTSTAMP:20260421T161733Z
LAST-MODIFIED:20251030T083733Z
SUMMARY:BANKO 2025
DESCRIPTION:======== *Årets Hyggeligste Banko* ===========================
 ===============\n\n======== *Søndag d. 2. november kl. 14-17\,* =========
 ========================\n\nafholder Orion det årlige bankospil i den flo
 tte sal\, i Kildevæld  \nKulturcenter. \nDet er for alle Orions spejdere
 \, deres familie og alle deres venner. \nVi starter kl. 14 og slutter ca.
  kl.17 efter fælles oprydning. Der spillers  \n5 spil med pause ca. halvv
 ejs. \nI pausen vil man kunne købe kaffe\, kage og sodavand og tradition
 en tro er  \nder fiskedam for de mindste. \nBankopladerne koster 25 kr. o
 g man må købe lige så mange man vil.\n\nVel mødt \nVi glæder os til 
 at se jer alle \nSpejder hilsen Orions bestyrelse og ledere\n\n
URL:https://www.oriongruppe.dk/begivenhed/banko-2025
DTSTART:20251102T130000Z
DTEND:20251102T160000Z
LOCATION:Kildevæld Kulturcenter\, Bellmansgade 5C\, 2100 København Ø
END:VEVENT
BEGIN:VEVENT
UID:gruppeweb.dk:2221:event:314
DTSTAMP:20260421T161733Z
LAST-MODIFIED:20260119T211116Z
SUMMARY:Afregning for salg af 30 lodsedler 2025
DESCRIPTION:\n
URL:https://www.oriongruppe.dk/begivenhed/afregning-salg-af-30-lodsedler-20
 25
DTSTART:20251224T110000Z
DTEND:20251228T220000Z
LOCATION:Orion Gruppe\, Nygårdsvej 50\, kld.\, 2100 København Ø
END:VEVENT
BEGIN:VEVENT
UID:gruppeweb.dk:2221:event:316
DTSTAMP:20260421T161733Z
LAST-MODIFIED:20260119T211116Z
SUMMARY:Afregning for salg af 5 lodsedler 2025
DESCRIPTION:\n
URL:https://www.oriongruppe.dk/begivenhed/afregning-salg-af-5-lodsedler-202
 5
DTSTART:20251224T110000Z
DTEND:20251228T220000Z
LOCATION:Orion Gruppe\, Nygårdsvej 50\, kld.\, 2100 København Ø
END:VEVENT
BEGIN:VEVENT
UID:gruppeweb.dk:2221:event:317
DTSTAMP:20260421T161733Z
LAST-MODIFIED:20260119T211117Z
SUMMARY:Afregning for salg af 40 lodsedler 2025
DESCRIPTION:\n
URL:https://www.oriongruppe.dk/begivenhed/afregning-salg-af-40-lodsedler-20
 25
DTSTART:20251224T110000Z
DTEND:20251228T220000Z
LOCATION:Orion Gruppe\, Nygårdsvej 50\, kld.\, 2100 København Ø
END:VEVENT
BEGIN:VEVENT
UID:gruppeweb.dk:2221:event:318
DTSTAMP:20260421T161733Z
LAST-MODIFIED:20260119T211117Z
SUMMARY:Afregning for salg af 10 lodsedler 2025
DESCRIPTION:\n
URL:https://www.oriongruppe.dk/begivenhed/afregning-salg-af-10-lodsedler-20
 25
DTSTART:20251224T110000Z
DTEND:20251228T220000Z
LOCATION:Orion Gruppe\, Nygårdsvej 50\, kld.\, 2100 København Ø
END:VEVENT
BEGIN:VEVENT
UID:gruppeweb.dk:2221:event:327
DTSTAMP:20260421T161733Z
LAST-MODIFIED:20260119T211117Z
SUMMARY:Afregning for salg af 20 lodsedler 2025
DESCRIPTION:\n
URL:https://www.oriongruppe.dk/begivenhed/afregning-salg-af-20-lodsedler-20
 25
DTSTART:20251224T110000Z
DTEND:20251228T220000Z
LOCATION:Orion Gruppe\, Nygårdsvej 50\, kld.\, 2100 København Ø
END:VEVENT
BEGIN:VEVENT
UID:gruppeweb.dk:2221:event:286
DTSTAMP:20260421T161733Z
LAST-MODIFIED:20260212T165115Z
SUMMARY:Egenbetaling for kurser 2025
DESCRIPTION:Beskrivelse\n\nDenne tilmelding er beregnet til Orions egenbeta
 ling for spejder- og  \nlederkurser.\n\nLæs mere om vilkårene for dette 
 her:\n\nhttps://www.oriongruppe.dk/orions-tilskudsregler [1]\n\n\n[1] http
 s://www.oriongruppe.dk/orions-tilskudsregler\n
URL:https://www.oriongruppe.dk/begivenhed/egenbetaling-kurser-2025
DTSTART:20251230T175900Z
DTEND:20251231T175900Z
LOCATION:Orion Gruppe\, Nygårdsvej 50\, st.\, 2100 København Ø
END:VEVENT
BEGIN:VEVENT
UID:gruppeweb.dk:2221:event:285
DTSTAMP:20260421T161733Z
LAST-MODIFIED:20260212T165112Z
SUMMARY:Egenbetaling for indmelding 2025
DESCRIPTION:OBS!\nDenne registrering skal kun benyttes efter aftale med gru
 ppens  \nmedlemsansvarlige!\nHar du aftalt indmeldelse med en leder kan du
  betale indmeldelsesgebyret på  \n400 kr her på siden\n\nEfterfølgende 
 skal du gå tilbage til instruktionen og færdiggøre  \nproceduren\n\n
URL:https://www.oriongruppe.dk/begivenhed/egenbetaling-indmelding-2025
DTSTART:20251230T180500Z
DTEND:20251231T180500Z
LOCATION:Orion Gruppe\, Nygårdsvej 50\, st.\, 2100 København Ø
END:VEVENT
BEGIN:VEVENT
UID:gruppeweb.dk:2221:event:328
DTSTAMP:20260421T161733Z
LAST-MODIFIED:20251230T220028Z
SUMMARY:Lederweekend i Kattehale
DESCRIPTION:-------- * VINTERENS HYGGELIGSTE TUR * ----------------------
 ---------------\n\n*\n*Kom med når vi alle skal mødes og planlægge hvor
 dan vores fælles fremtid  \nskal se ud\n\nVi mødes i Kattehale lørdag k
 l 10\, spiser brunch og holder spændende  \nworkshop.\n\nDu skal bare med
 bringe dig selv\, vi sørger for resten.\n\nMaden laver vi i fælleskab og
  bålet blusser i vinternatten.\n\nAfgang søndag kl 12.\n\n.... VEL MØDT
  fra GL's\n\n\n
URL:https://www.oriongruppe.dk/begivenhed/lederweekend-i-kattehale
DTSTART:20260117T090000Z
DTEND:20260118T110000Z
LOCATION:Kattehale\, Kattehalevej 33b\, 3460 Birkerød
END:VEVENT
BEGIN:VEVENT
UID:gruppeweb.dk:2221:event:340
DTSTAMP:20260421T161733Z
LAST-MODIFIED:20260316T084024Z
SUMMARY:Fællesdag i Kattehale
DESCRIPTION:Kære Forældre\, Spejdere og ledere i Orion\n\nSkoven bliver g
 røn og vi skal i gang med sæsonen i vores skønne hytte i  \nKattehale.\
 n\nDet er også derfor at hytten og grunden skal have en kærlig hånd.\n\
 nSå der er opgaver for en hver smag både ude og inde. \n\nMedbring gern
 e dine bedste powertools - vi har projektet \;)\n\nTraditionen tro sørger
  gruppen for dejlig frokost.\n\nObs! alle spejdere og søskende er selvfø
 lgelig meget velkomne.\n\nSpejderhilsen Kattehale Teamet\n\n
URL:https://www.oriongruppe.dk/begivenhed/faellesdag-i-kattehale-1
DTSTART:20260322T090000Z
DTEND:20260322T140000Z
LOCATION:Kattehale\, Kattehalevej 33b\, 3460 Birkerød
END:VEVENT
BEGIN:VEVENT
UID:gruppeweb.dk:2221:event:332
DTSTAMP:20260421T161733Z
LAST-MODIFIED:20260209T113045Z
SUMMARY:Stjernetur 2026 mikrobe/klan
DESCRIPTION:Bip-bop-bip-bop-biiiip*Det ydre rum prøver at kontakte jorden*
 Der er  \nproblmer på rumstationen og hvem ved hvad der kan ske når man 
 er i kontakt  \nmed fjerne galakser. Ekspeditionen afgår fra svanemølle
 n station fredag  \nden 17. april klokken 16.30\, og lander igen søndag d
 en 19. april. Mere  \ninformationer følger\, når afgang nærmer sig!Hil
 sen rumselskab NOIRO\n\n
URL:https://www.oriongruppe.dk/begivenhed/stjernetur-2026-mikrobeklan
DTSTART:20260417T143000Z
DTEND:20260419T130000Z
LOCATION:Orion Gruppe\, Nygårdsvej 50\, kld.\, 2100 København Ø
END:VEVENT
BEGIN:VEVENT
UID:gruppeweb.dk:2221:event:336
DTSTAMP:20260421T161733Z
LAST-MODIFIED:20260220T161230Z
SUMMARY:Egenbetaling for kurser 2026
DESCRIPTION:Bip-bop-bip-bop-biiiip\n\n*Det ydre rum prøver at kontakte jor
 den*\n\n\nDer er problmer på rumstationen og hvem ved hvad der kan ske n
 år man er i  \nkontakt med fjerne galakser. \n\n\nEkspeditionen afgår f
 ra svanemøllen station fredag den 17. april klokken  \n17:00\, og lander 
 igen søndag den 19. april. \n\nMere informationer følger\, når afgang 
 nærmer sig!\n\n\nHilsen rumselskab NOIRO\n\n
URL:https://www.oriongruppe.dk/begivenhed/egenbetaling-kurser-2026
DTSTART:20260417T150000Z
DTEND:20260419T123000Z
LOCATION:Orion Gruppe\, Nygårdsvej 50\, kld.\, 2100 København Ø
END:VEVENT
BEGIN:VEVENT
UID:gruppeweb.dk:2221:event:347
DTSTAMP:20260421T161733Z
LAST-MODIFIED:20260410T081213Z
SUMMARY:Stjernetur 2026
DESCRIPTION:Bip-bop-bip-bop-biiiip\n\n*Det ydre rum prøver at kontakte jor
 den*\n\n\nDer er problmer på rumstationen og hvem ved hvad der kan ske n
 år man er i  \nkontakt med fjerne galakser. \n\n\nEkspeditionen afgår f
 ra svanemøllen station fredag den 17. april klokken  \n17:00\, og lander 
 igen søndag den 19. april. \n\nMere informationer følger\, når afgang 
 nærmer sig!\n\n\nHilsen rumselskab NOIRO\n\n
URL:https://www.oriongruppe.dk/begivenhed/stjernetur-2026
DTSTART:20260417T150000Z
DTEND:20260419T123000Z
LOCATION:Orion Gruppe\, Nygårdsvej 50\, kld.\, 2100 København Ø
END:VEVENT
BEGIN:VEVENT
UID:gruppeweb.dk:2221:event:345
DTSTAMP:20260421T161733Z
LAST-MODIFIED:20260325T104730Z
SUMMARY:MIKROBETUR til Kattehale - FAMILIEPRIS
DESCRIPTION:======== Kære Mikrober =======================================
 ===============\n\n\n-------- Vi mødes oppe ved hytten i \n         Katt
 ehale\, Kattehalevej 33B \n         Lørdag d. 30. Maj kl. 10.  -------
 ---------------------------------\n\n\nVi tager hjem søndag\, når vi har
  spist morgenmad og ryddet op - vi satser  \npå\, at vejret er til\, at v
 i kan snuppe en håndmad udenfor\, efter fælles  \nrengøring.\n\n\nDer e
 r mulighed for at sove indenfor\, men man må også gerne tage eget telt  
 \nog udstyr med\, hvis man har lyst. Vi tager ikke fælles telte med denne
  gang.\n\n\nVi har fælles ansvar for hele turen. Giv derfor lyd på fb\, 
 hvis I  \nplanlægger at komme senere eller smutte tidligere\, så vi kan 
 planlægge  \nprogrammet i fællesskab derefter. \n\n\nVi ser frem til en
  masse familiespejder-aktiviteter! Vi skal både lave et  \nmadprojekt ifb
 m. Vores fra jord til bord-tema\, hvor vi skal sanke urter og  \nforhåben
 tlig selv filetere fisk\, som vi skal varmryge ved bålet. Måske en  \nkr
 ible-krable aktivitet. Og for dem\, der har lyst\, skal vi prøve at bygge
   \nnoget stort i rafter. Og så skal vi bare lege\, hygge\, lave bål og 
 gå på  \nopdagelse i skoven. Byd endelig ind med forslag til lege og akt
 iviteter\,  \nbåde før og undervejs på turen.\n\nTag gerne en lommelygt
 e med\, så vi eventuelt kan gå en lille tur\, når  \nmørket falder på
  og opleve skoven i mørket. \n\n\nPrisen er 350 kr. er Familieprisen\nPr
 isen for 1 barn+1 voksen er 200 kr.– OBS Brug den anden tilmelding.\nBel
 øbet dækker frokost\, aftensmad\, morgenmad og snacks. \n\n\n.... Spejd
 erhilsen Mikrobelederne\n\n
URL:https://www.oriongruppe.dk/begivenhed/mikrobetur-til-kattehale-familiep
 ris
DTSTART:20260530T080000Z
DTEND:20260531T100000Z
LOCATION:Kattehale\, Kattehalevej 33b\, 3460 Birkerød
END:VEVENT
BEGIN:VEVENT
UID:gruppeweb.dk:2221:event:346
DTSTAMP:20260421T161733Z
LAST-MODIFIED:20260325T104734Z
SUMMARY:MIKROBETUR til Kattehale – 1 barn+1 voksen
DESCRIPTION:======== Kære Mikrober =======================================
 ===============\n\n\n-------- Vi mødes oppe ved hytten i \n         Katt
 ehale\, Kattehalevej 33B \n         Lørdag d. 30. Maj kl. 10.  -------
 ---------------------------------\n\n\nVi tager hjem søndag\, når vi har
  spist morgenmad og ryddet op - vi satser  \npå\, at vejret er til\, at v
 i kan snuppe en håndmad udenfor\, efter fælles  \nrengøring.\n\n\nDer e
 r mulighed for at sove indenfor\, men man må også gerne tage eget telt  
 \nog udstyr med\, hvis man har lyst. Vi tager ikke fælles telte med denne
  gang.\n\n\nVi har fælles ansvar for hele turen. Giv derfor lyd på fb\, 
 hvis I  \nplanlægger at komme senere eller smutte tidligere\, så vi kan 
 planlægge  \nprogrammet i fællesskab derefter. \n\n\nVi ser frem til en
  masse familiespejder-aktiviteter! Vi skal både lave et  \nmadprojekt ifb
 m. Vores fra jord til bord-tema\, hvor vi skal sanke urter og  \nforhåben
 tlig selv filetere fisk\, som vi skal varmryge ved bålet. Måske en  \nkr
 ible-krable aktivitet. Og for dem\, der har lyst\, skal vi prøve at bygge
   \nnoget stort i rafter. Og så skal vi bare lege\, hygge\, lave bål og 
 gå på  \nopdagelse i skoven. Byd endelig ind med forslag til lege og akt
 iviteter\,  \nbåde før og undervejs på turen.\n\nTag gerne en lommelygt
 e med\, så vi eventuelt kan gå en lille tur\, når  \nmørket falder på
  og opleve skoven i mørket. \n\n\nPrisen er 200 kr for 1 barn og 1 vokse
 n  \nPrisen er 350 kr. er Familieprisen – OBS Brug den anden tilmeldin
 g.\nBeløbet dækker frokost\, aftensmad\, morgenmad og snacks. \n\n\n...
 . Spejderhilsen Mikrobelederne\n\n
URL:https://www.oriongruppe.dk/begivenhed/mikrobetur-til-kattehale-1-barn1-
 voksen
DTSTART:20260530T080000Z
DTEND:20260531T100000Z
LOCATION:Kattehale\, Kattehalevej 33b\, 3460 Birkerød
END:VEVENT
BEGIN:VEVENT
UID:gruppeweb.dk:2221:event:329
DTSTAMP:20260421T161733Z
LAST-MODIFIED:20260104T200055Z
SUMMARY:Egenbetaling for indmelding 2026
DESCRIPTION:\n
URL:https://www.oriongruppe.dk/begivenhed/egenbetaling-indmelding-2026
DTSTART:20261230T194800Z
DTEND:20261231T194800Z
LOCATION:Orion Gruppe\, Nygårdsvej 50\, kld.\, 2100 København Ø
END:VEVENT
END:VCALENDAR
